BEGIN:VCALENDAR
VERSION:2.0
PRODID:-//Nut Boskoop - ECPv6.15.20//NONSGML v1.0//EN
CALSCALE:GREGORIAN
METHOD:PUBLISH
X-ORIGINAL-URL:https://nutboskoop.nl
X-WR-CALDESC:Evenementen voor Nut Boskoop
REFRESH-INTERVAL;VALUE=DURATION:PT1H
X-Robots-Tag:noindex
X-PUBLISHED-TTL:PT1H
BEGIN:VTIMEZONE
TZID:Europe/Amsterdam
BEGIN:DAYLIGHT
TZOFFSETFROM:+0100
TZOFFSETTO:+0200
TZNAME:CEST
DTSTART:20240331T010000
END:DAYLIGHT
BEGIN:STANDARD
TZOFFSETFROM:+0200
TZOFFSETTO:+0100
TZNAME:CET
DTSTART:20241027T010000
END:STANDARD
BEGIN:DAYLIGHT
TZOFFSETFROM:+0100
TZOFFSETTO:+0200
TZNAME:CEST
DTSTART:20250330T010000
END:DAYLIGHT
BEGIN:STANDARD
TZOFFSETFROM:+0200
TZOFFSETTO:+0100
TZNAME:CET
DTSTART:20251026T010000
END:STANDARD
BEGIN:DAYLIGHT
TZOFFSETFROM:+0100
TZOFFSETTO:+0200
TZNAME:CEST
DTSTART:20260329T010000
END:DAYLIGHT
BEGIN:STANDARD
TZOFFSETFROM:+0200
TZOFFSETTO:+0100
TZNAME:CET
DTSTART:20261025T010000
END:STANDARD
END:VTIMEZONE
BEGIN:VEVENT
DTSTART;VALUE=DATE:20250509
DTEND;VALUE=DATE:20250510
DTSTAMP:20260422T020047
CREATED:20250328T111623Z
LAST-MODIFIED:20250328T112828Z
UID:1709-1746748800-1746835199@nutboskoop.nl
SUMMARY:Muziek/cabarat: Het groot niet te vermijden
DESCRIPTION:HET GROOT NIET TE VERMIJDEN \nTerug in de theaters met Anne-Marie Jung als gast\nHet iconische muzikale theatergezelschap Het Groot Niet Te Vermijden maakt een grootse comeback met een verrassende tournee door de Nederlandse theaters. Ditmaal met een unieke twist: de getalenteerde Anne-Marie Jung sluit zich aan bij de groep voor een reeks onvergetelijke avonden vol muziek en humor. \nVerwacht een show vol muzikale parodieën\, virtuoze sketches en onverwachte wendingen\, zoals alleen Het Groot Niet Te Vermijden dat kan. Mis deze kans niet om weer te genieten van deze door hun grensverleggende muzikale comeback. \nHet Groot Niet Te Vermijden en Anne-Marie Jung verwelkomen je graag voor een avond vol plezier\, verrassing en ongeëvenaard entertainment. \nMuziek/cabaret: Het groot niet te vermijden\nAanvangstijd: 20.00 uur\nLocatie: Schouwburg Amstelveen\nPrijs leden: €46\,50 (incl. vervoer)\nPrijs overige: €49\,50 (incl. vervoer)
URL:https://nutboskoop.nl/programma/muziek-cabarat-het-groot-niet-te-vermijden/
CATEGORIES:Theater
ATTACH;FMTTYPE=image/png:https://nutboskoop.nl/wp-content/uploads/2025/02/Programma-Het-groot-niet-te-vermijden.png
END:VEVENT
BEGIN:VEVENT
DTSTART;VALUE=DATE:20250406
DTEND;VALUE=DATE:20250407
DTSTAMP:20260422T020047
CREATED:20250328T111409Z
LAST-MODIFIED:20250328T112912Z
UID:1707-1743897600-1743983999@nutboskoop.nl
SUMMARY:Musical: Moulin Rouge!
DESCRIPTION:MOULIN ROUGE! DE MUSICAL \nMoulin Rouge! Het verhaal\nDe musical speelt zich af in levendige Parijs in het jaar 1900. Christan is een jonge schrijver en dichter die de cabaretdanseres Satine. Hij valt als een blok voor haar. Zij is de grote ster van de Parijse nachtclub Moulin Rouge. Via via lukt het Christian om contact te leggen met twee toneelschrijvers die werken aan een grote voorstelling voor de nachtclub. \nMuziek uit Moulin Rouge!\nIn Moulin Rouge! De Musical zal net als in de film\, bekende muziek te horen zijn. Hits van grote artiesten zoals Adele\, Katy Perry\, Sia\, Rihanna en Beyoncé wisselen elkaar af met klassieke composities van Jacques Offenbach. Ook zullen de bekende liedjes uit de film terugkomen zoals onder andere ‘Lady Marmalade’\, ‘Come What May’\, ‘Your Song’\, ‘Bad Romance’ en ‘Firework’. \nCast Moulin Rouge!\nPresentator Carlo Boszhard speelt de rol van nachtclubeigenaar Harold Zidler. In 2018 ging de musical in première in Boston. Daarna was de musical te zien op Broadway en in andere Noord-Amerikaanse theaters\, op het Londense West End\, en in theaters in Australië\, Zuid-Korea\, Duitsland en Japan. In verschillende landen is de musical nog steeds te zien. De musicalproductie is ondertussen onderscheiden met vele prijzen zoals tien Tony Awards. \nMusical: Moulin Rouge!\nAanvangstijd: 18.50 uur\nLocatie: Beatrix Theater (Utrecht)\nPrijs leden: €96\,00 (incl. vervoer)\nPrijs overige: €99\,00 (incl. vervoer)
URL:https://nutboskoop.nl/programma/musical-moulin-rouge/
CATEGORIES:Theater
ATTACH;FMTTYPE=image/png:https://nutboskoop.nl/wp-content/uploads/2025/02/Programma-Moulin-Rouge.png
END:VEVENT
BEGIN:VEVENT
DTSTART;VALUE=DATE:20250330
DTEND;VALUE=DATE:20250331
DTSTAMP:20260422T020047
CREATED:20250328T110723Z
LAST-MODIFIED:20250328T112941Z
UID:1705-1743292800-1743379199@nutboskoop.nl
SUMMARY:Opera: Turandot - De Nationale Opera
DESCRIPTION:TURANDOT – DE NATIONALE OPERA \nTurandot is een bloedstollend spannende opera met de weergaloze muziek van Puccini. De Nationale Opera bengt deze klassieker opnieuw tot leven op het podium onder leiding van chef-dirigent Lorenzo Viotti.\nTurandot spreekt nog steeds tot de verbeelding\, met de kille prinses en de man die haar hart koste wat het kost wil veroveren. En het iconische ‘Nessun dorma’ is zelfs buiten de operawereld zeer bekend.\nRegisseur Barrie Kosky maakt van de voorstelling een dystopische koortsdroom vol verlangen\, lust en obsessie. Het Nederlands Philharmonisch Orkest verzorgt de muziek. Met medewerking van het Nieuw Amsterdams KinderkoorOpera: Turandot – De Nationale Opera \nAanvangstijd: 19.00 uur\nLocatie: Amare – Den Haag\nPrijs leden: €58\,00 (incl. vervoer)\nPrijs introducees: €60\,50 (incl. vervoer)\nLet op: Alleen plaatsen op het balkon (rij 3\,4 en 5 in het midden)
URL:https://nutboskoop.nl/programma/opera-turandot-de-nationale-opera/
CATEGORIES:Theater
ATTACH;FMTTYPE=image/png:https://nutboskoop.nl/wp-content/uploads/2024/09/Programma-Turandot.png
END:VEVENT
END:VCALENDAR